
BEGIN:VCALENDAR
VERSION:2.0
PRODID:-//NLU//Events//UA
CALSCALE:GREGORIAN
METHOD:PUBLISH
BEGIN:VEVENT
UID:79663@nlu.edu.ua
DTSTAMP:20260419T144453Z
DTSTART:20260425T100000Z
DTEND:20260425T170000Z
SUMMARY:День відкритих дверей в Полтавському фаховому коледжі НЮУ імені Ярослава Мудрого
DESCRIPTION:https://\nlu.edu.ua/eve\nt/de\n-vidkrytyh-dverej-v-poltavskomu-fahovomu-koledzhi-\nyuu-ime\ni-yaroslava-mudrogo/
URL:https://nlu.edu.ua/event/den-vidkrytyh-dverej-v-poltavskomu-fahovomu-koledzhi-nyuu-imeni-yaroslava-mudrogo/
END:VEVENT
END:VCALENDAR
