
BEGIN:VCALENDAR
VERSION:2.0
PRODID:-//NLU//Events//UA
CALSCALE:GREGORIAN
METHOD:PUBLISH
BEGIN:VEVENT
UID:79386@nlu.edu.ua
DTSTAMP:20260419T144450Z
DTSTART:20260528T080000Z
DTEND:20260528T170000Z
SUMMARY:ХІ Харківські міжнародно-правові читання (до 80-ї річниці винесення рішень Нюрнберзького трибуналу)
DESCRIPTION:https://\nlu.edu.ua/eve\nt/hi-harkivski-mizh\narod\no-pravovi-chyta\n\nya-do-80-yi-rich\nyczi-vy\nese\n\nya-rishe\n-\nyur\nberzkogo-trybu\nalu/
URL:https://nlu.edu.ua/event/hi-harkivski-mizhnarodno-pravovi-chytannya-do-80-yi-richnyczi-vynesennya-rishen-nyurnberzkogo-trybunalu/
END:VEVENT
END:VCALENDAR
